BEGIN:VCALENDAR
VERSION:2.0
PRODID:-//Restaurant Zuiver Vlieland - ECPv6.15.20//NONSGML v1.0//EN
CALSCALE:GREGORIAN
METHOD:PUBLISH
X-ORIGINAL-URL:https://zuiver-vlieland.nl
X-WR-CALDESC:Events for Restaurant Zuiver Vlieland
REFRESH-INTERVAL;VALUE=DURATION:PT1H
X-Robots-Tag:noindex
X-PUBLISHED-TTL:PT1H
BEGIN:VTIMEZONE
TZID:Europe/Amsterdam
BEGIN:DAYLIGHT
TZOFFSETFROM:+0100
TZOFFSETTO:+0200
TZNAME:CEST
DTSTART:20240331T010000
END:DAYLIGHT
BEGIN:STANDARD
TZOFFSETFROM:+0200
TZOFFSETTO:+0100
TZNAME:CET
DTSTART:20241027T010000
END:STANDARD
BEGIN:DAYLIGHT
TZOFFSETFROM:+0100
TZOFFSETTO:+0200
TZNAME:CEST
DTSTART:20250330T010000
END:DAYLIGHT
BEGIN:STANDARD
TZOFFSETFROM:+0200
TZOFFSETTO:+0100
TZNAME:CET
DTSTART:20251026T010000
END:STANDARD
BEGIN:DAYLIGHT
TZOFFSETFROM:+0100
TZOFFSETTO:+0200
TZNAME:CEST
DTSTART:20260329T010000
END:DAYLIGHT
BEGIN:STANDARD
TZOFFSETFROM:+0200
TZOFFSETTO:+0100
TZNAME:CET
DTSTART:20261025T010000
END:STANDARD
END:VTIMEZONE
BEGIN:VEVENT
DTSTART;TZID=Europe/Amsterdam:20251231T170000
DTEND;TZID=Europe/Amsterdam:20251231T220000
DTSTAMP:20260419T233657
CREATED:20251213T111658Z
LAST-MODIFIED:20251213T111658Z
UID:338-1767200400-1767218400@zuiver-vlieland.nl
SUMMARY:Oudejaarsavond bij Zuiver
DESCRIPTION:Oudejaarsdag bij Zuiver \nOp Oudejaarsdag heten we u graag welkom in Restaurant Zuiver voor een avond in het teken van samensmelting tussen gastronomie en muziek. Ons vijfgangen verrassingsmenu serveren wij u deze avond gepaard met pianomuziek op onze vleugel door pianist Robert Poortinga. \nHet programma \n\n17:00 Ontvangst met champagne en amuse (optioneel oesters)\n17:45 Voorgerecht | Tussengerecht\n18:30 Muziek\n19:00 Tussengerecht | Hoofdgerecht\n20:00 Muziek\n20:30 Nagerecht\n21:00 Muziek\n21:30 Optioneel: Extra gang of koffie\n\nPrijs \n€ 125\,- per persoon inclusief: champagne bij binnenkomst\, tafelwater\, amuses\, huisgemaakt brood en vijfgangen verrassingsmenu. \nOptioneel kunt u het menu uitbreiden met oesters\, wijnarrangement (€45 per persoon) en kaas. \nBijzonderheden\nMochten er in uw gezelschap allergieën of dieetwensen zijn verzoeken we u deze bij het maken van de reservering aan te geven. Op de avond zelf kunnen we hier helaas geen rekening mee houden. \nMuziek\nTussen de gangen door speelt Robert Poortinga prachtige stukken op de piano\, waaronder Debussy’s Clair de Lune\, verscheidene noctrunes van Chopin en Widmung van Schumann/Liszt. Robert Poortinga is een prijswinnend pianist\, geroemd om zijn muzikaliteit\, technische finesse en veelzijdige repertoire. In 2025 werd Robert benoemd tot Artist in Residence bij Appassionata Leeuwarden. Robert treedt op door heel Europa en combineert een internationale concertpraktijk met succesvolle opnames\, waaronder recent werk van Chopin. \nReserveren\nGraag heten we u van harte welkom op Oudejaarsdag. Klik hier om te reserveren.\nUitverkocht! Neem telefonisch contact op voor de reservelijst.Telefoonnummer: 0562 451857
URL:https://zuiver-vlieland.nl/event/oudejaarsavond-bij-zuiver-met-live-muziek/
LOCATION:Restaurant Zuiver Vlieland\, Willem de Vlaminghweg 2\, Vlieland\, Netherlands
ATTACH;FMTTYPE=image/jpeg:https://zuiver-vlieland.nl/wp-content/uploads/2025/10/piano-en-pepers.jpg
END:VEVENT
BEGIN:VEVENT
DTSTART;TZID=Europe/Amsterdam:20251226T170000
DTEND;TZID=Europe/Amsterdam:20251226T220000
DTSTAMP:20260419T233657
CREATED:20251213T110840Z
LAST-MODIFIED:20251213T110840Z
UID:333-1766768400-1766786400@zuiver-vlieland.nl
SUMMARY:Kerst bij Zuiver
DESCRIPTION:Kerst bij Zuiver \nTijdens de kerstdagen heten we u graag welkom in Restaurant Zuiver voor een avond in het teken van samensmelting tussen gastronomie en muziek. Ons vijfgangen verrassingsmenu serveren wij u deze avond gepaard met pianomuziek op onze vleugel door pianist Robert Poortinga. \nHet programma \n\n17:00 Ontvangst met champagne en amuse (optioneel oesters)\n17:45 Voorgerecht | Tussengerecht\n18:30 Muziek\n19:00 Tussengerecht | Hoofdgerecht\n20:00 Muziek\n20:30 Nagerecht\n21:00 Muziek\n21:30 Optioneel: Extra gang of koffie\n\nPrijs \n€ 125\,- per persoon inclusief: champagne bij binnenkomst\, tafelwater\, amuses\, huisgemaakt brood en vijfgangen verrassingsmenu. \nOptioneel kunt u het menu uitbreiden met oesters\, wijnarrangement (€45 per persoon) en kaas. \nBijzonderheden\nMochten er in uw gezelschap allergieën of dieetwensen zijn verzoeken we u deze bij het maken van de reservering aan te geven. Op de avond zelf kunnen we hier helaas geen rekening mee houden. \nMuziek\nTussen de gangen door speelt Robert Poortinga prachtige stukken op de piano\, waaronder Debussy’s Clair de Lune\, verscheidene noctrunes van Chopin en Widmung van Schumann/Liszt. Robert Poortinga is een prijswinnend pianist\, geroemd om zijn muzikaliteit\, technische finesse en veelzijdige repertoire. In 2025 werd Robert benoemd tot Artist in Residence bij Appassionata Leeuwarden. Robert treedt op door heel Europa en combineert een internationale concertpraktijk met succesvolle opnames\, waaronder recent werk van Chopin. \nReserveren\nGraag heten we u van harte welkom op Tweede Kerstdag. Klik hier om te reserveren.
URL:https://zuiver-vlieland.nl/event/kerst-bij-zuiver-op-tweede-kerstdag-met-live-muziek/
LOCATION:Restaurant Zuiver Vlieland\, Willem de Vlaminghweg 2\, Vlieland\, Netherlands
ATTACH;FMTTYPE=image/jpeg:https://zuiver-vlieland.nl/wp-content/uploads/2025/10/piano-en-pepers.jpg
END:VEVENT
BEGIN:VEVENT
DTSTART;TZID=Europe/Amsterdam:20251225T170000
DTEND;TZID=Europe/Amsterdam:20251225T220000
DTSTAMP:20260419T233657
CREATED:20251213T110130Z
LAST-MODIFIED:20251213T110729Z
UID:325-1766682000-1766700000@zuiver-vlieland.nl
SUMMARY:Kerst bij Zuiver
DESCRIPTION:Kerst bij Zuiver \nTijdens de kerstdagen heten we u graag welkom in Restaurant Zuiver voor een avond in het teken van samensmelting tussen gastronomie en muziek. Ons vijfgangen verrassingsmenu serveren wij u deze avond gepaard met pianomuziek op onze vleugel door pianist Robert Poortinga. \nHet programma \n\n17:00 Ontvangst met champagne en amuse (optioneel oesters)\n17:45 Voorgerecht | Tussengerecht\n18:30 Muziek\n19:00 Tussengerecht | Hoofdgerecht\n20:00 Muziek\n20:30 Nagerecht\n21:00 Muziek\n21:30 Optioneel: Extra gang of koffie\n\nPrijs \n€ 125\,- per persoon inclusief: champagne bij binnenkomst\, tafelwater\, amuses\, huisgemaakt brood en vijfgangen verrassingsmenu. \nOptioneel kunt u het menu uitbreiden met oesters\, wijnarrangement (€45 per persoon) en kaas. \nBijzonderheden\nMochten er in uw gezelschap allergieën of dieetwensen zijn verzoeken we u deze bij het maken van de reservering aan te geven. Op de avond zelf kunnen we hier helaas geen rekening mee houden. \nMuziek\nTussen de gangen door speelt Robert Poortinga prachtige stukken op de piano\, waaronder Debussy’s Clair de Lune\, verscheidene noctrunes van Chopin en Widmung van Schumann/Liszt. Robert Poortinga is een prijswinnend pianist\, geroemd om zijn muzikaliteit\, technische finesse en veelzijdige repertoire. In 2025 werd Robert benoemd tot Artist in Residence bij Appassionata Leeuwarden. Robert treedt op door heel Europa en combineert een internationale concertpraktijk met succesvolle opnames\, waaronder recent werk van Chopin. \nReserveren\nGraag heten we u van harte welkom op Eerste Kerstdag. Klik hier om te reserveren.\nUitverkocht\, neem telefonisch contact op voor de reservelijst. Telefoonnummer: 0562 451857
URL:https://zuiver-vlieland.nl/event/kerst-bij-zuiver-op-eerste-kerstdag-met-live-muziek/
LOCATION:Restaurant Zuiver Vlieland\, Willem de Vlaminghweg 2\, Vlieland\, Netherlands
ATTACH;FMTTYPE=image/jpeg:https://zuiver-vlieland.nl/wp-content/uploads/2025/10/piano-en-pepers.jpg
END:VEVENT
END:VCALENDAR